BEGIN:VCALENDAR
VERSION:2.0
PRODID:-//NaviGo College &amp; Career Prep Services - ECPv6.15.20//NONSGML v1.0//EN
CALSCALE:GREGORIAN
METHOD:PUBLISH
X-WR-CALNAME:NaviGo College &amp; Career Prep Services
X-ORIGINAL-URL:https://navigoprep.org
X-WR-CALDESC:Events for NaviGo College &amp; Career Prep Services
REFRESH-INTERVAL;VALUE=DURATION:PT1H
X-Robots-Tag:noindex
X-PUBLISHED-TTL:PT1H
BEGIN:VTIMEZONE
TZID:America/New_York
BEGIN:DAYLIGHT
TZOFFSETFROM:-0500
TZOFFSETTO:-0400
TZNAME:EDT
DTSTART:20220313T070000
END:DAYLIGHT
BEGIN:STANDARD
TZOFFSETFROM:-0400
TZOFFSETTO:-0500
TZNAME:EST
DTSTART:20221106T060000
END:STANDARD
BEGIN:DAYLIGHT
TZOFFSETFROM:-0500
TZOFFSETTO:-0400
TZNAME:EDT
DTSTART:20230312T070000
END:DAYLIGHT
BEGIN:STANDARD
TZOFFSETFROM:-0400
TZOFFSETTO:-0500
TZNAME:EST
DTSTART:20231105T060000
END:STANDARD
BEGIN:DAYLIGHT
TZOFFSETFROM:-0500
TZOFFSETTO:-0400
TZNAME:EDT
DTSTART:20240310T070000
END:DAYLIGHT
BEGIN:STANDARD
TZOFFSETFROM:-0400
TZOFFSETTO:-0500
TZNAME:EST
DTSTART:20241103T060000
END:STANDARD
END:VTIMEZONE
BEGIN:VEVENT
DTSTART;VALUE=DATE:20230902
DTEND;VALUE=DATE:20230903
DTSTAMP:20260425T234810
CREATED:20230814T154619Z
LAST-MODIFIED:20230823T171426Z
UID:1196-1693612800-1693699199@navigoprep.org
SUMMARY:2023-24 NaviGo Scholars Applications Closed!
DESCRIPTION:Are  you a high school student in the tri-state region? Don’t miss your opportunity to apply for NaviGo Scholars—applications close today! Visit our Scholars page for more information and to apply.
URL:https://navigoprep.org/event/2023-24-navigo-scholars-applications-close/
LOCATION:KY
CATEGORIES:Scholars
ATTACH;FMTTYPE=image/jpeg:https://navigoprep.org/wp-content/uploads/2023/08/Scholars-Applications-Closed-Featured.jpg
END:VEVENT
END:VCALENDAR